BEGIN:VCALENDAR
VERSION:2.0
PRODID:-//jEvents 2.0 for Joomla//EN
CALSCALE:GREGORIAN
METHOD:PUBLISH
BEGIN:VEVENT
UID:881c3ba1751c34c36e7c6ca977c77c93
CATEGORIES:DEFAULT
SUMMARY:II lezione "Avanzare nella didattica digitale" - ISTITUTO MAXWELL
LOCATION:ISTITUTO MAXWELL
DESCRIPTION;ENCODING=QUOTED-PRINTABLE:\n\nSeconda lezione del corso di Generazione Web (Rete Cavalieri) 161717 "A
 vanzare nella didattica digitale" preso l'Istituto Maxwell, via Don Giovann
 i Calabria 2, Milano.\n
DTSTAMP:20260424T163636Z
DTSTART:20170227T140000Z
DTEND:20170227T170000Z
SEQUENCE:0
TRANSP:OPAQUE
END:VEVENT
END:VCALENDAR