BEGIN:VCALENDAR
VERSION:2.0
PRODID:-//jEvents 2.0 for Joomla//EN
CALSCALE:GREGORIAN
METHOD:PUBLISH
BEGIN:VEVENT
UID:2b018fc2b968dcb2cd471433c517a77a
CATEGORIES:DEFAULT
SUMMARY:SECONDA LEZIONE AVANZARE NELLA DIDATTICA DIGITALE- IST. CREMONA
DESCRIPTION;ENCODING=QUOTED-PRINTABLE:\n\nLA SECONDA LEZIONE DEL CORSO DI GENERAZIONE WEB 161872 AVANZARE NELLA D
 IDATTICA DIGITALE SI TERRA' PRESSO L'ISTITUTO CREMONA, VIALE MARCHE 73, MIL
 ANO.\n
DTSTAMP:20260424T190411Z
DTSTART:20170410T130000Z
DTEND:20170410T160000Z
SEQUENCE:0
TRANSP:OPAQUE
END:VEVENT
END:VCALENDAR