BEGIN:VCALENDAR
VERSION:2.0
PRODID:-//jEvents 2.0 for Joomla//EN
CALSCALE:GREGORIAN
METHOD:PUBLISH
BEGIN:VEVENT
UID:8d00a33c5896ae2e68cfd7dea45b1a8a
CATEGORIES:DEFAULT
SUMMARY:QUARTA LEZIONE AVANZARE NELLA DIDATTICA DIGITALE- IST. CREMONA
DESCRIPTION;ENCODING=QUOTED-PRINTABLE:\n\nLA QUARTA LEZIONE DEL CORSO DI GENERAZIONE WEB 161872 AVANZARE NELLA DI
 DATTICA DIGITALE SI TERRA' PRESSO L'ISTITUTO CREMONA, VIALE MARCHE 73, MILA
 NO.\n
DTSTAMP:20260424T205549Z
DTSTART:20170504T130000Z
DTEND:20170504T160000Z
SEQUENCE:0
TRANSP:OPAQUE
END:VEVENT
END:VCALENDAR