BEGIN:VCALENDAR
VERSION:2.0
PRODID:-//jEvents 2.0 for Joomla//EN
CALSCALE:GREGORIAN
METHOD:PUBLISH
BEGIN:VEVENT
UID:e48dc2ea70eed73ee6b6141fb1f1711e
CATEGORIES:DEFAULT
SUMMARY:QUINTA LEZIONE AVANZARE NELLA DIDATTICA DIGITALE- IST. CREMONA
DESCRIPTION;ENCODING=QUOTED-PRINTABLE:\n\nL'ultima lezione del corso alla base della didattica digitale si terrà 
 il giorno 27 Maggio dalle 14:45 alle 17:45 presso l'istituto Cremona, viale
  Marche 73\n
DTSTAMP:20260424T221402Z
DTSTART:20170527T124500Z
DTEND:20170527T154500Z
SEQUENCE:0
TRANSP:OPAQUE
END:VEVENT
END:VCALENDAR