BEGIN:VCALENDAR
VERSION:2.0
PRODID:-//jEvents 2.0 for Joomla//EN
CALSCALE:GREGORIAN
METHOD:PUBLISH
BEGIN:VEVENT
UID:394fd988ad4ab436534f7d8090e51306
CATEGORIES:DEFAULT
SUMMARY:V lezione "ABC...iPad" - KANDINSKY
LOCATION:KANDINSKY
DESCRIPTION;ENCODING=QUOTED-PRINTABLE:\n\nQuinta e ultima lezione del corso di Generazione Web "ABC...iPad" press
 o l'Istituto Kandinsky, Via Costantino Baroni 35.\n
DTSTAMP:20260424T205549Z
DTSTART:20170530T123000Z
DTEND:20170530T153000Z
SEQUENCE:0
TRANSP:OPAQUE
END:VEVENT
END:VCALENDAR