BEGIN:VCALENDAR
VERSION:2.0
PRODID:-//jEvents 2.0 for Joomla//EN
CALSCALE:GREGORIAN
METHOD:PUBLISH
BEGIN:VEVENT
UID:d8fd1e1d849c7fca499917cfd4e71ec6
CATEGORIES:DEFAULT
SUMMARY:CONOSCERE A AGIRE NEL MONDO CONTEMPORANEO - I LEZIONE
LOCATION:ISTITUTO CAVALIERI - Via Olona 14, Milano
DESCRIPTION;ENCODING=QUOTED-PRINTABLE:\n\nComprendere la contemporaneità: passato, presente, futuro.\n\n\nRelator
 i:\n\n\nPaolo Colombo professore ordinario di storia contemporanea Universi
 tà Cattolica del Sacro Cuore, Milano\n\n\nGiacomo Samek Ludovici docente di
  storia delle dottrine morali Università Cattolica del Sacro Cuore, Milano\
 n\n\ncoordina Giancarlo Sala dirigente scolastico Liceo Banfi, Vimercate\n
DTSTAMP:20260424T234502Z
DTSTART:20171016T133000Z
DTEND:20171016T160000Z
SEQUENCE:0
TRANSP:OPAQUE
END:VEVENT
END:VCALENDAR