BEGIN:VCALENDAR
VERSION:2.0
PRODID:-//jEvents 2.0 for Joomla//EN
CALSCALE:GREGORIAN
METHOD:PUBLISH
BEGIN:VEVENT
UID:c961153e65e96bce01a8b2e36a58ff56
CATEGORIES:DEFAULT
SUMMARY:CONOSCERE E AGIRE NEL MONDO CONTEMPORANEO - II LEZIONE
LOCATION:ISTITUTO CAVALIERI - Via Olona 14, Milano
DESCRIPTION;ENCODING=QUOTED-PRINTABLE:\n\nIO ROBOT: intelligenza artificiale e intelligenza umana\n\n\nRelatore:\
 n\n\nSamir Simon Suweis , ricercatore Dipartimento di Fisica e Astronomia -
  Università degli Studi di Padova\n\n\nABITARE LA TECNOLOGIA \n\n\nCoordian
 a Giacomo di Iorio, docente di Matematica e Fisica . Liceo Eistein di Milan
 o\n
DTSTAMP:20260424T234500Z
DTSTART:20171025T133000Z
DTEND:20171025T160000Z
SEQUENCE:0
TRANSP:OPAQUE
END:VEVENT
END:VCALENDAR