BEGIN:VCALENDAR
VERSION:2.0
PRODID:-//jEvents 2.0 for Joomla//EN
CALSCALE:GREGORIAN
METHOD:PUBLISH
BEGIN:VEVENT
UID:f535dd0a6bc63d01b04a77f78c8fdd70
CATEGORIES:DEFAULT
SUMMARY:LA SCUOLA CHE VOGLIAMO
LOCATION:ISTITUTO CAVALIERI - Via Olona 14, Milano
DESCRIPTION;ENCODING=QUOTED-PRINTABLE:\n\nLA SCUOLA CHE VOGLIAMO\n\n\nUN MOVIMENTO DI INSEGNANTI ALL'OPERA\n\n\n 
 \n\n\nLunedì 2 ottobre 2017\n\n\nore 15.00 - 18.30\n\n\npresso l'Aula Magna
  dell'Istituto Professionale di Stato B. Cavalieri\n\n\nVia Olona 14, Milan
 o\n\n\n(MM2 Sant'Agostino)\n
DTSTAMP:20260425T012127Z
DTSTART:20171002T130000Z
DTEND:20171002T163000Z
SEQUENCE:0
TRANSP:OPAQUE
END:VEVENT
END:VCALENDAR