BEGIN:VCALENDAR
VERSION:2.0
PRODID:-//jEvents 2.0 for Joomla//EN
CALSCALE:GREGORIAN
METHOD:PUBLISH
BEGIN:VEVENT
UID:c8bb3c0dbc9417ac5de6a2b79d1086f0
CATEGORIES:DEFAULT
SUMMARY:ACQUISIZIONE DEL FIRST CERTIFICATE IN ENGLISH - B 2 - LESSON VI
LOCATION:BASTIONI DI PORTA VOLTA 16 MILANO
DESCRIPTION;ENCODING=QUOTED-PRINTABLE:
DTSTAMP:20260424T221313Z
DTSTART:20171123T150000Z
DTEND:20171123T180000Z
SEQUENCE:0
TRANSP:OPAQUE
END:VEVENT
END:VCALENDAR