BEGIN:VCALENDAR
VERSION:2.0
PRODID:-//jEvents 2.0 for Joomla//EN
CALSCALE:GREGORIAN
METHOD:PUBLISH
BEGIN:VEVENT
UID:86327402b8a1310b3c816ef58ad8f378
CATEGORIES:DEFAULT
SUMMARY:LA CHIESA DELLE ORIGINI - II LEZIONE
LOCATION:Sede Diesse Lombardia viale Zara 9 Milano
DESCRIPTION;ENCODING=QUOTED-PRINTABLE:\n\nSULLE ORME DI PAOLO\n\n\nrelatore\n\n\n Mons. Francesco Braschi dottore
  della Biblioteca Ambrosiana, direttore della Classe di Slavistica dell'Acc
 ademia Ambrosiana, docente di Teologia presso l'Università Cattolica del Sa
 cro Cuore di Milano\n\n\n \n\n\n \n
DTSTAMP:20260424T221406Z
DTSTART:20171127T153000Z
DTEND:20171127T183000Z
SEQUENCE:0
TRANSP:OPAQUE
END:VEVENT
END:VCALENDAR