BEGIN:VCALENDAR
VERSION:2.0
PRODID:-//jEvents 2.0 for Joomla//EN
CALSCALE:GREGORIAN
METHOD:PUBLISH
BEGIN:VEVENT
UID:d18d103f95415921beb45655ed5c723f
CATEGORIES:DEFAULT
SUMMARY:LA CHIESA DELLE ORIGINI - III LEZIONE
LOCATION:Sede Diesse Lombardia viale Zara 9
DESCRIPTION;ENCODING=QUOTED-PRINTABLE:\n\nLABORATORI (scuola primaria, secondaria I grado e secondaria II grado):
  progettazione di unità didattiche in vista delle competenze di cittadinanz
 a.\n\n\n \n\n\nCoordinano: \n\n\nProfe.ssa Marta D'Angelo scuola sec. I gra
 do Fondazione Sacro Cuore\n\n\nProf.ssa Cristina Milesi scuola se. II grado
  Liceo Beccaria \n\n\nDirettore del Corso\n\n\nCristina Griner insegnate sc
 uola sec. II grado Liceo don Gnocchi Carate Brianza\n\n\n \n
DTSTAMP:20260424T202752Z
DTSTART:20171214T153000Z
DTEND:20171214T183000Z
SEQUENCE:0
TRANSP:OPAQUE
END:VEVENT
END:VCALENDAR