BEGIN:VCALENDAR
VERSION:2.0
PRODID:-//jEvents 2.0 for Joomla//EN
CALSCALE:GREGORIAN
METHOD:PUBLISH
BEGIN:VEVENT
UID:d8fa92dcb42628ccd076d1c1ac84dfa7
CATEGORIES:DEFAULT
SUMMARY:IN QUESTA NOTTE SPLENDIDA
DESCRIPTION;ENCODING=QUOTED-PRINTABLE:\n\nCon gioia vi segnalamo la bellissima iniziativa che si svolge da alcuni
  anni sul sagrato del Duomo di Milano: "In questa notte spendida"\n\n\nPer 
 circa un ora e mezza saranno eseguiti canti deolla tradizione natalizia ita
 liana e straniera per augurare a tutti la gioia del Natale con un grande co
 ro formato da adulti e bambini.\n\n\nAccompagneranno musicalmente i canti: 
 Carlo pastori, Walter Muto, Francesco De Chiara e Ermens Angelon.\n\n\nVi i
 nvitiamo a partecipare e a diffondere questa bellissima iniziativa.\n\n\nE'
  il nostro modo per augurarvi un Buon Natale.\n\n\n \n\n\n \n
DTSTAMP:20260424T222754Z
DTSTART;VALUE=DATE:20171223
DTEND;VALUE=DATE:20171224
SEQUENCE:0
TRANSP:OPAQUE
END:VEVENT
END:VCALENDAR