BEGIN:VCALENDAR
VERSION:2.0
PRODID:-//jEvents 2.0 for Joomla//EN
CALSCALE:GREGORIAN
METHOD:PUBLISH
BEGIN:VEVENT
UID:e39883bc9f36e8497707abcaed5fcde6
CATEGORIES:DEFAULT
SUMMARY:chiusura Sede Diesse Lombardia
DESCRIPTION;ENCODING=QUOTED-PRINTABLE:\n\nLa sede di Diesse Lombardia sarà chiusa per le festività natalizie dal 
 22 dicembre 2017 al 1 gennaio 2018. Riapriremo il 2 gennaio .\n\n\nBuon Nat
 ale\n
DTSTAMP:20260424T202754Z
DTSTART:20171222T070000Z
DTEND:20180101T160000Z
SEQUENCE:0
TRANSP:OPAQUE
END:VEVENT
END:VCALENDAR