BEGIN:VCALENDAR
VERSION:2.0
PRODID:-//jEvents 2.0 for Joomla//EN
CALSCALE:GREGORIAN
METHOD:PUBLISH
BEGIN:VEVENT
UID:5e6a03cfb1674281d7fc999af868ef71
CATEGORIES:DEFAULT
SUMMARY:LESSON XV: ACQUISIZIONE DEL FIRST CERTIFICATE IN ENGLISH - B 2 - 
LOCATION:Liceo Tenca - Bastioni di Porta Volta 16 Milano
DESCRIPTION;ENCODING=QUOTED-PRINTABLE:\n\nORARIO 15.30 - 18.30\n
DTSTAMP:20260424T210406Z
DTSTART;VALUE=DATE:20180301
DTEND;VALUE=DATE:20180302
SEQUENCE:0
TRANSP:OPAQUE
END:VEVENT
END:VCALENDAR