BEGIN:VCALENDAR
VERSION:2.0
PRODID:-//jEvents 2.0 for Joomla//EN
CALSCALE:GREGORIAN
METHOD:PUBLISH
BEGIN:VEVENT
UID:6bf162c1366a8401e8661eeab01f5ca3
CATEGORIES:DEFAULT
SUMMARY:LESSON XVI: ACQUISIZIONE DEL FIRST CERTIFICATE IN ENGLISH - B 2 - 
DESCRIPTION;ENCODING=QUOTED-PRINTABLE:\n\nORARIO 15.30 - 18.30\n
DTSTAMP:20260424T222755Z
DTSTART;VALUE=DATE:20180308
DTEND;VALUE=DATE:20180309
SEQUENCE:0
TRANSP:OPAQUE
END:VEVENT
END:VCALENDAR