BEGIN:VCALENDAR
VERSION:2.0
PRODID:-//jEvents 2.0 for Joomla//EN
CALSCALE:GREGORIAN
METHOD:PUBLISH
BEGIN:VEVENT
UID:23d84e3a31c61844ccb37af4ae5519da
CATEGORIES:DEFAULT
SUMMARY:LESSON XVIII: ACQUISIZIONE DEL FIRST CERTIFICATE IN ENGLISH - B 2 - 
LOCATION:Liceo Tenca - Bastioni di Porta Volta 16 Milano
DESCRIPTION;ENCODING=QUOTED-PRINTABLE:\n\nORARIO 15.30 - 17.30\n
DTSTAMP:20260424T210517Z
DTSTART;VALUE=DATE:20180322
DTEND;VALUE=DATE:20180323
SEQUENCE:0
TRANSP:OPAQUE
END:VEVENT
END:VCALENDAR