BEGIN:VCALENDAR
VERSION:2.0
PRODID:-//jEvents 2.0 for Joomla//EN
CALSCALE:GREGORIAN
METHOD:PUBLISH
BEGIN:VEVENT
UID:07cbdb936c9ed0b614876f792e0d6ab6
CATEGORIES:DEFAULT
SUMMARY:LESSON XX: ACQUISIZIONE DEL FIRST CERTIFICATE IN ENGLISH - B 2 - 
LOCATION:Liceo Tenca - Bastioni di Porta Volta 16 Milano
DESCRIPTION;ENCODING=QUOTED-PRINTABLE:\n\nORARIO 15.30 - 18.30\n
DTSTAMP:20260424T222752Z
DTSTART;VALUE=DATE:20180419
DTEND;VALUE=DATE:20180420
SEQUENCE:0
TRANSP:OPAQUE
END:VEVENT
END:VCALENDAR