BEGIN:VCALENDAR
VERSION:2.0
PRODID:-//jEvents 2.0 for Joomla//EN
CALSCALE:GREGORIAN
METHOD:PUBLISH
BEGIN:VEVENT
UID:ec93b7d43942e86040795fde556a88af
CATEGORIES:DEFAULT
SUMMARY:LESSON XXII: ACQUISIZIONE DEL FIRST CERTIFICATE IN ENGLISH - B 2 - 
LOCATION:Liceo Tenca - Bastioni di Porta Volta 16 Milano
DESCRIPTION;ENCODING=QUOTED-PRINTABLE:\n\nORARIO 15.30 - 18.30\n
DTSTAMP:20260425T001405Z
DTSTART;VALUE=DATE:20180503
DTEND;VALUE=DATE:20180504
SEQUENCE:0
TRANSP:OPAQUE
END:VEVENT
END:VCALENDAR