BEGIN:VCALENDAR
VERSION:2.0
PRODID:-//jEvents 2.0 for Joomla//EN
CALSCALE:GREGORIAN
METHOD:PUBLISH
BEGIN:VEVENT
UID:cdbec14a1e17ac28501ba913e5ef314b
CATEGORIES:DEFAULT
SUMMARY:LESSON XXIII: ACQUISIZIONE DEL FIRST CERTIFICATE IN ENGLISH - B 2 - 
DESCRIPTION;ENCODING=QUOTED-PRINTABLE:\n\nORARIO 15.30 - 18.30\n
DTSTAMP:20260425T001313Z
DTSTART;VALUE=DATE:20180510
DTEND;VALUE=DATE:20180511
SEQUENCE:0
TRANSP:OPAQUE
END:VEVENT
END:VCALENDAR