BEGIN:VCALENDAR
VERSION:2.0
PRODID:-//jEvents 2.0 for Joomla//EN
CALSCALE:GREGORIAN
METHOD:PUBLISH
BEGIN:VEVENT
UID:aefc84395fe10917cc4856e71cc45672
CATEGORIES:DEFAULT
SUMMARY:LESSON XXIV: ACQUISIZIONE DEL FIRST CERTIFICATE IN ENGLISH - B 2 - 
LOCATION:Liceo Tenca - Bastioni di Porta Volta 16 Milano
DESCRIPTION;ENCODING=QUOTED-PRINTABLE:\n\nORARIO 15.30 - 18.30\n
DTSTAMP:20260425T001406Z
DTSTART;VALUE=DATE:20180517
DTEND;VALUE=DATE:20180518
SEQUENCE:0
TRANSP:OPAQUE
END:VEVENT
END:VCALENDAR