BEGIN:VCALENDAR
VERSION:2.0
PRODID:-//jEvents 2.0 for Joomla//EN
CALSCALE:GREGORIAN
METHOD:PUBLISH
BEGIN:VEVENT
UID:4de5bea75ad82f0bfba75938d579b155
CATEGORIES:DEFAULT
SUMMARY:GWL 2018 rete Cardarelli - 184995 Coding e pensiero computazionale nella scuola secondaria di II grado
DESCRIPTION;ENCODING=QUOTED-PRINTABLE:
DTSTAMP:20260424T180012Z
DTSTART:20180226T140000Z
DTEND:20180226T170000Z
SEQUENCE:0
TRANSP:OPAQUE
END:VEVENT
END:VCALENDAR