BEGIN:VCALENDAR
VERSION:2.0
PRODID:-//jEvents 2.0 for Joomla//EN
CALSCALE:GREGORIAN
METHOD:PUBLISH
BEGIN:VEVENT
UID:1c180d782a7ac7f6b4404507cf7e7018
CATEGORIES:DEFAULT
SUMMARY:GWL 2018 Rete Cardarelli - 185010 Laboratorio per una didattica inclusiva 
DESCRIPTION;ENCODING=QUOTED-PRINTABLE:
DTSTAMP:20260424T190410Z
DTSTART:20180307T140000Z
DTEND:20180307T170000Z
SEQUENCE:0
TRANSP:OPAQUE
END:VEVENT
END:VCALENDAR