BEGIN:VCALENDAR
VERSION:2.0
PRODID:-//jEvents 2.0 for Joomla//EN
CALSCALE:GREGORIAN
METHOD:PUBLISH
BEGIN:VEVENT
UID:f7ebfa5a96a795a9c1bcef956c2a365b
CATEGORIES:DEFAULT
SUMMARY:GWL 2018 Rete Cardarelli - 185010 Laboratorio per una didattica inclusiva
DESCRIPTION;ENCODING=QUOTED-PRINTABLE:
DTSTAMP:20260424T190412Z
DTSTART:20180315T140000Z
DTEND:20180315T170000Z
SEQUENCE:0
TRANSP:OPAQUE
END:VEVENT
END:VCALENDAR