BEGIN:VCALENDAR
VERSION:2.0
PRODID:-//jEvents 2.0 for Joomla//EN
CALSCALE:GREGORIAN
METHOD:PUBLISH
BEGIN:VEVENT
UID:00ae6fa703c67cc796181251e8d517d9
CATEGORIES:DEFAULT
SUMMARY:GWL 2018 Rete Banfi - 185092 SCUOLA DIGITALE 3.0 e nuove metodologie didattiche
DESCRIPTION;ENCODING=QUOTED-PRINTABLE:
DTSTAMP:20260424T202751Z
DTSTART:20180405T150000Z
DTEND:20180405T173000Z
SEQUENCE:0
TRANSP:OPAQUE
END:VEVENT
END:VCALENDAR