BEGIN:VCALENDAR
VERSION:2.0
PRODID:-//jEvents 2.0 for Joomla//EN
CALSCALE:GREGORIAN
METHOD:PUBLISH
BEGIN:VEVENT
UID:b9aa2f65970e0509e9486b3996787ebf
CATEGORIES:DEFAULT
SUMMARY:GWL 2018 Rete Banfi - 185092 SCUOLA DIGITALE 3.0 e nuove metodologie didattiche
DESCRIPTION;ENCODING=QUOTED-PRINTABLE:
DTSTAMP:20260424T204014Z
DTSTART:20180411T150000Z
DTEND:20180411T173000Z
SEQUENCE:0
TRANSP:OPAQUE
END:VEVENT
END:VCALENDAR