BEGIN:VCALENDAR
VERSION:2.0
PRODID:-//jEvents 2.0 for Joomla//EN
CALSCALE:GREGORIAN
METHOD:PUBLISH
BEGIN:VEVENT
UID:51c958ecbcd0cef2a8a342cc2a97e428
CATEGORIES:DEFAULT
SUMMARY:GWL 2018 Rete Banfi - 185097 Coding e Robotica nella scuola dell'infanzia
DESCRIPTION;ENCODING=QUOTED-PRINTABLE:
DTSTAMP:20260424T185636Z
DTSTART:20180317T080000Z
DTEND:20180317T120000Z
SEQUENCE:0
TRANSP:OPAQUE
END:VEVENT
END:VCALENDAR