BEGIN:VCALENDAR
VERSION:2.0
PRODID:-//jEvents 2.0 for Joomla//EN
CALSCALE:GREGORIAN
METHOD:PUBLISH
BEGIN:VEVENT
UID:42c62ed3ecf84d08513348782bb39ad2
CATEGORIES:DEFAULT
SUMMARY:GWL 2018 Rete Banfi - 185097 Coding e Robotica nella scuola dell'infanzia
DESCRIPTION;ENCODING=QUOTED-PRINTABLE:
DTSTAMP:20260424T202754Z
DTSTART:20180324T080000Z
DTEND:20180324T120000Z
SEQUENCE:0
TRANSP:OPAQUE
END:VEVENT
END:VCALENDAR