BEGIN:VCALENDAR
VERSION:2.0
PRODID:-//jEvents 2.0 for Joomla//EN
CALSCALE:GREGORIAN
METHOD:PUBLISH
BEGIN:VEVENT
UID:d631d4da24d7c5db087c87e1c9788a79
CATEGORIES:DEFAULT
SUMMARY:GWL 2018 Rete Banfi - 185097 Coding e Robotica nella scuola dell'infanzia
DESCRIPTION;ENCODING=QUOTED-PRINTABLE:\n\ndalle ore 17.00 alle ore 20.00\n
DTSTAMP:20260424T202750Z
DTSTART:20180411T150000Z
DTEND:20180411T180000Z
SEQUENCE:0
TRANSP:OPAQUE
END:VEVENT
END:VCALENDAR