BEGIN:VCALENDAR
VERSION:2.0
PRODID:-//jEvents 2.0 for Joomla//EN
CALSCALE:GREGORIAN
METHOD:PUBLISH
BEGIN:VEVENT
UID:397b33c5619ea9f55ee85be3cbd9b7e5
CATEGORIES:DEFAULT
SUMMARY:GWL 2018 Rete Cardarelli - 184978 Laboratorio per una didattica inclusiva
DESCRIPTION;ENCODING=QUOTED-PRINTABLE:\n\n17.00/19.30 \n\n\nIstituto Cardarelli\n
DTSTAMP:20260424T210407Z
DTSTART;VALUE=DATE:20180326
DTEND;VALUE=DATE:20180327
SEQUENCE:0
TRANSP:OPAQUE
END:VEVENT
END:VCALENDAR