BEGIN:VCALENDAR
VERSION:2.0
PRODID:-//jEvents 2.0 for Joomla//EN
CALSCALE:GREGORIAN
METHOD:PUBLISH
BEGIN:VEVENT
UID:ccfd6e41c26feb867f4202fd635b84d7
CATEGORIES:DEFAULT
SUMMARY:GWL 2018 Rete Cardarelli - 184978 Laboratorio per una didattica inclusiva
DESCRIPTION;ENCODING=QUOTED-PRINTABLE:
DTSTAMP:20260424T202754Z
DTSTART:20180412T150000Z
DTEND:20180412T173000Z
SEQUENCE:0
TRANSP:OPAQUE
END:VEVENT
END:VCALENDAR