BEGIN:VCALENDAR
VERSION:2.0
PRODID:-//jEvents 2.0 for Joomla//EN
CALSCALE:GREGORIAN
METHOD:PUBLISH
BEGIN:VEVENT
UID:39b03626cb70643eb16c7069098a3324
CATEGORIES:DEFAULT
SUMMARY:GWL 2018 Rete Cardarelli - 184978 Laboratorio per una didattica inclusiva
DESCRIPTION;ENCODING=QUOTED-PRINTABLE:
DTSTAMP:20260424T221400Z
DTSTART:20180510T150000Z
DTEND:20180510T173000Z
SEQUENCE:0
TRANSP:OPAQUE
END:VEVENT
END:VCALENDAR