BEGIN:VCALENDAR
VERSION:2.0
PRODID:-//jEvents 2.0 for Joomla//EN
CALSCALE:GREGORIAN
METHOD:PUBLISH
BEGIN:VEVENT
UID:832b18b8dc60a9bc5027aa8a9b2ae80a
CATEGORIES:DEFAULT
SUMMARY:GWL 2018 Rete Banfi - 185084 SCUOLA DIGITALE 3.0 Laboratorio per una didattica inclusiva
DESCRIPTION;ENCODING=QUOTED-PRINTABLE:
DTSTAMP:20260424T221401Z
DTSTART:20180509T150000Z
DTEND:20180509T173000Z
SEQUENCE:0
TRANSP:OPAQUE
END:VEVENT
END:VCALENDAR