BEGIN:VCALENDAR
VERSION:2.0
PRODID:-//jEvents 2.0 for Joomla//EN
CALSCALE:GREGORIAN
METHOD:PUBLISH
BEGIN:VEVENT
UID:85f38e314fb945ab61d4b6353ec795c2
CATEGORIES:DEFAULT
SUMMARY:GWL 2018 Rete Banfi - 185084 SCUOLA DIGITALE 3.0 Laboratorio per una didattica inclusiva
DESCRIPTION;ENCODING=QUOTED-PRINTABLE:
DTSTAMP:20260424T221407Z
DTSTART:20180516T150000Z
DTEND:20180516T173000Z
SEQUENCE:0
TRANSP:OPAQUE
END:VEVENT
END:VCALENDAR