BEGIN:VCALENDAR
VERSION:2.0
PRODID:-//jEvents 2.0 for Joomla//EN
CALSCALE:GREGORIAN
METHOD:PUBLISH
BEGIN:VEVENT
UID:889c46b2e7c311fadfd630f50aa13720
CATEGORIES:DEFAULT
SUMMARY:GWL 2018 Rete Banfi - 185102 Robotica nella scuola Secondaria di Secondo grado
DESCRIPTION;ENCODING=QUOTED-PRINTABLE:
DTSTAMP:20260424T205549Z
DTSTART:20180416T133000Z
DTEND:20180416T163000Z
SEQUENCE:0
TRANSP:OPAQUE
END:VEVENT
END:VCALENDAR