BEGIN:VCALENDAR
VERSION:2.0
PRODID:-//jEvents 2.0 for Joomla//EN
CALSCALE:GREGORIAN
METHOD:PUBLISH
BEGIN:VEVENT
UID:237b0d48efde877f2e43d7fc4f9b1c44
CATEGORIES:DEFAULT
SUMMARY:185098 SCUOLA DIGITALE 3.0 coding per la scuola primaria
DESCRIPTION;ENCODING=QUOTED-PRINTABLE:\n\nIC Mandelli\n
DTSTAMP:20260424T202755Z
DTSTART:20180416T150000Z
DTEND:20180416T173000Z
SEQUENCE:0
TRANSP:OPAQUE
END:VEVENT
END:VCALENDAR