BEGIN:VCALENDAR
VERSION:2.0
PRODID:-//jEvents 2.0 for Joomla//EN
CALSCALE:GREGORIAN
METHOD:PUBLISH
BEGIN:VEVENT
UID:946c80a7824564d7d90f4dd1402329b3
CATEGORIES:DEFAULT
SUMMARY:185098 SCUOLA DIGITALE 3.0 coding per la scuola primaria
DESCRIPTION;ENCODING=QUOTED-PRINTABLE:\n\nIC Mandelli\n
DTSTAMP:20260424T221402Z
DTSTART:20180423T150000Z
DTEND:20180423T173000Z
SEQUENCE:0
TRANSP:OPAQUE
END:VEVENT
END:VCALENDAR