BEGIN:VCALENDAR
VERSION:2.0
PRODID:-//jEvents 2.0 for Joomla//EN
CALSCALE:GREGORIAN
METHOD:PUBLISH
BEGIN:VEVENT
UID:69ff4a5ac74037041146c9070a0009ea
CATEGORIES:DEFAULT
SUMMARY:La Contemporaneità - Convegno Finale
DESCRIPTION;ENCODING=QUOTED-PRINTABLE:Presentazione e premiazione dei migliori progetti da parte degli studenti i
 n alternanza scuola lavoro\n\n con la partecipazione di Giacomo Poretti\n\n
 \n15 maggio 2018 - ore 15.00\n\n\nCinema Colosseo viale Montenero, 84 - Mil
 ano\n
DTSTAMP:20260424T221402Z
DTSTART:20180515T130000Z
DTEND:20180515T160000Z
SEQUENCE:0
TRANSP:OPAQUE
END:VEVENT
END:VCALENDAR