BEGIN:VCALENDAR
VERSION:2.0
PRODID:-//jEvents 2.0 for Joomla//EN
CALSCALE:GREGORIAN
METHOD:PUBLISH
BEGIN:VEVENT
UID:d188bef43689381ab0017dd286b82ce7
CATEGORIES:DEFAULT
SUMMARY:GWL 2018 RETE BANFI 185101 CODING E PENSIERO COMPUTAZIONALE NELLA SCUOLA SECONDARIA DI II GRADO
DESCRIPTION;ENCODING=QUOTED-PRINTABLE:
DTSTAMP:20260425T000812Z
DTSTART:20180613T123000Z
DTEND:20180613T160000Z
SEQUENCE:0
TRANSP:OPAQUE
END:VEVENT
END:VCALENDAR