BEGIN:VCALENDAR
VERSION:2.0
PRODID:-//jEvents 2.0 for Joomla//EN
CALSCALE:GREGORIAN
METHOD:PUBLISH
BEGIN:VEVENT
UID:64db56aafb0467bebd06562a75deda18
CATEGORIES:DEFAULT
SUMMARY:GWL 2018 Rete Leonardo da Vinci  184789 Coding e pensiero computazionale nella scuola secondaria di II grado
LOCATION:via Locatelli, 41 - Biassono - MB
DESCRIPTION;ENCODING=QUOTED-PRINTABLE:
DTSTAMP:20260425T012723Z
DTSTART:20180613T130000Z
DTEND:20180613T160000Z
SEQUENCE:0
TRANSP:OPAQUE
END:VEVENT
END:VCALENDAR