BEGIN:VCALENDAR
VERSION:2.0
PRODID:-//jEvents 2.0 for Joomla//EN
CALSCALE:GREGORIAN
METHOD:PUBLISH
BEGIN:VEVENT
UID:6d7f63179ae9df72f8b9bf2360ca9da1
CATEGORIES:DEFAULT
SUMMARY:GWL 2018 Rete Leonardo da Vinci  184789 Coding e pensiero computazionale nella scuola secondaria di II grado
LOCATION:via Locatelli, 41 - Biassono
DESCRIPTION;ENCODING=QUOTED-PRINTABLE:
DTSTAMP:20260425T005712Z
DTSTART:20180614T130000Z
DTEND:20180614T160000Z
SEQUENCE:0
TRANSP:OPAQUE
END:VEVENT
END:VCALENDAR