BEGIN:VCALENDAR
VERSION:2.0
PRODID:-//jEvents 2.0 for Joomla//EN
CALSCALE:GREGORIAN
METHOD:PUBLISH
BEGIN:VEVENT
UID:c74b9c374ddf8a84a663c96315d3afcb
CATEGORIES:DEFAULT
SUMMARY:Per fare un bambini ci vuole un villaggio - Una coscienza in rete
DESCRIPTION;ENCODING=QUOTED-PRINTABLE:\n\nSCUOLA E FAMIGLIA IN RETE: UNA NUOVA ALLEANZA\n\n\nAuditorium Associazi
 one La Nostra Famiglia - Rogeno LC\n\n\nore 20.45\n
DTSTAMP:20260425T030212Z
DTSTART:20180924T184500Z
DTEND:20180924T203000Z
SEQUENCE:0
TRANSP:OPAQUE
END:VEVENT
END:VCALENDAR