BEGIN:VCALENDAR
VERSION:2.0
PRODID:-//jEvents 2.0 for Joomla//EN
CALSCALE:GREGORIAN
METHOD:PUBLISH
BEGIN:VEVENT
UID:fcdd4130baa9ef5a1a402e48927f55dd
CATEGORIES:DEFAULT
SUMMARY:CONVEGNO Quale scuola stiamo costruendo?  
DESCRIPTION;ENCODING=QUOTED-PRINTABLE:\n\nSala Biagi - Palazzo della Regione N 4, piano 1, via Melchiorre Gioia 3
 7 - Milano\n\n\nlunedì 15 ottobre 2018  ore 14.45\n\n\nUna proposta di DIES
 SE LOMBARDIA in collaborazione con REGIONE LOMBARDIA \n\n\ne con alcune scu
 ole capofila delle reti di scuole che hanno partecipato ai corsi di Generaz
 ione WEB: \n\n\nLiceo Banfi - Vimercate; .C. Bellusco; I.C. Cardarelli-Mass
 aua; Istituto professionale B. Cavalieri – Milano; IIS Cremona-Milano; Fond
 azione Fides et ratio; IIS Leonardo da Vinci – Carate; Liceo Carlo Tenca – 
 Milano; I.C. Vobarno \n\n\nLe iscrizioni si chiudono il 10 ottobre 2018. \n
 \n\nLa partecipazione al Convegno è gratuita ma l’iscrizione è obbligatoria
  perché per accedere alla sala Marco Biagi occorre accreditarsi (portare la
  tessera della Carta dei servizi regionali e la carta d’identità). Si consi
 glia vivamente di arrivare mezz’ora prima dell’inizio dell’incontro. \n
DTSTAMP:20260425T012703Z
DTSTART:20181015T124500Z
DTEND:20181015T163000Z
SEQUENCE:0
TRANSP:OPAQUE
END:VEVENT
END:VCALENDAR