BEGIN:VCALENDAR
VERSION:2.0
PRODID:-//jEvents 2.0 for Joomla//EN
CALSCALE:GREGORIAN
METHOD:PUBLISH
BEGIN:VEVENT
UID:284da936018c87aa52cff79d61300b1b
CATEGORIES:DEFAULT
SUMMARY:"La contemporaneità e i suoi testimoni": PELLEGRINO NEL MONDO: LA TESTIMONIANZA DI GIOVANNI PAOLO II
DESCRIPTION;ENCODING=QUOTED-PRINTABLE:\n\nMons. Paolo Martinelli, Vicario Episcopale per la Pastorale Scolastica 
 – Arcidiocesi di Milano\n\n\n\nVenerdì 14 dicembre 2018 ore 15.30-18\n\n\n\
 nSede Aula 208, Università degli Studi - via Festa del Perdono 3, Milano\n
DTSTAMP:20260424T221406Z
DTSTART:20181214T143000Z
DTEND:20181214T170000Z
SEQUENCE:0
TRANSP:OPAQUE
END:VEVENT
END:VCALENDAR