BEGIN:VCALENDAR
VERSION:2.0
PRODID:-//jEvents 2.0 for Joomla//EN
CALSCALE:GREGORIAN
METHOD:PUBLISH
BEGIN:VEVENT
UID:1292106613e3794701f666855054144c
CATEGORIES:DEFAULT
SUMMARY:GWL 2019 ID 202798 Tinkering infanzia
DESCRIPTION;ENCODING=QUOTED-PRINTABLE:\n\npresso IC Villasanta (MB), via Villa 5\n\n\norario: 16.30 - 19.00\n\n\n
 formatore: prof. Tamburrini\n
DTSTAMP:20260424T192130Z
DTSTART:20190208T153000Z
DTEND:20190208T180000Z
SEQUENCE:0
TRANSP:OPAQUE
END:VEVENT
END:VCALENDAR