BEGIN:VCALENDAR
VERSION:2.0
PRODID:-//jEvents 2.0 for Joomla//EN
CALSCALE:GREGORIAN
METHOD:PUBLISH
BEGIN:VEVENT
UID:5a1f46916877db8d96ee0e7238c2429a
CATEGORIES:DEFAULT
SUMMARY:GWL 2019 ID 202798 Tinkering infanzia
DESCRIPTION;ENCODING=QUOTED-PRINTABLE:\n\npresso IC Villasanta (MB), via Villa 5\n\n\norario: 16.30 - 19.00\n\n\n
 formatore: prof. Corradi\n
DTSTAMP:20260424T221401Z
DTSTART:20190328T153000Z
DTEND:20190328T180000Z
SEQUENCE:0
TRANSP:OPAQUE
END:VEVENT
END:VCALENDAR