BEGIN:VCALENDAR
VERSION:2.0
PRODID:-//jEvents 2.0 for Joomla//EN
CALSCALE:GREGORIAN
METHOD:PUBLISH
BEGIN:VEVENT
UID:2c241448e20847d510088204b1bf6252
CATEGORIES:DEFAULT
SUMMARY:GWL 2019 ID 202798 Tinkering infanzia
DESCRIPTION;ENCODING=QUOTED-PRINTABLE:\n\npresso IC Villasanta (MB), via Villa 5\n\n\norario: 16.30 - 19.00\n\n\n
 formatore: prof. Corradi\n
DTSTAMP:20260424T221402Z
DTSTART:20190411T143000Z
DTEND:20190411T170000Z
SEQUENCE:0
TRANSP:OPAQUE
END:VEVENT
END:VCALENDAR