BEGIN:VCALENDAR
VERSION:2.0
PRODID:-//jEvents 2.0 for Joomla//EN
CALSCALE:GREGORIAN
METHOD:PUBLISH
BEGIN:VEVENT
UID:27f3f4835e8c4a7802dc6419997c1a16
CATEGORIES:DEFAULT
SUMMARY:NATURA E UMANITA’: STORIA DI UN CONFLITTO O STORIA DI UN DIALOGO?
DESCRIPTION;ENCODING=QUOTED-PRINTABLE:\n\n\n\n\nSede: Istituto Cavalieri, via Olona 14 Milano\n
DTSTAMP:20260425T012703Z
DTSTART:20191108T143000Z
DTEND:20191108T170000Z
SEQUENCE:0
TRANSP:OPAQUE
END:VEVENT
END:VCALENDAR