BEGIN:VCALENDAR
VERSION:2.0
PRODID:-//jEvents 2.0 for Joomla//EN
CALSCALE:GREGORIAN
METHOD:PUBLISH
BEGIN:VEVENT
UID:582f488949625fc4612681080bd2e75f
CATEGORIES:DEFAULT
SUMMARY:Liberazione dalla pena, Liberazione dai pregiudizi
LOCATION:Monza
DESCRIPTION;ENCODING=QUOTED-PRINTABLE:\n\nSi svolgerà a Monza,Sabato 30 Novembre dalle 9.30 alle 12.30, presso l'
 Aula Magna del Liceo Zucchi (Piazza Trento e Trieste) il Convegno sulla giu
 sitizia riparativa dal titolo "Liberazione dalla pena, Liberazione dai preg
 iudizi".\n\n\nPer maggior informazioni leggi la locandina al seguente LINK\
 n
DTSTAMP:20260425T012725Z
DTSTART:20191130T083000Z
DTEND:20191130T113000Z
SEQUENCE:0
TRANSP:OPAQUE
END:VEVENT
END:VCALENDAR