BEGIN:VCALENDAR
VERSION:2.0
PRODID:-//jEvents 2.0 for Joomla//EN
CALSCALE:GREGORIAN
METHOD:PUBLISH
BEGIN:VEVENT
UID:6887c8b3302134275b50d2c2cefba189
CATEGORIES:DEFAULT
SUMMARY:Per fare un bambino ci vuole un villaggio II parte
LOCATION:Sala Ticozzi, via Giuseppe Ongania, 4 Lecco
DESCRIPTION;ENCODING=QUOTED-PRINTABLE:\n\n"Internet o la cantina di Mos Eisley, dove solo i droidi restano fuori"
  \n\n\nIncontro con gli studenti del triennio delle scuole superiori di Lec
 co e provincia\n\n\nIntervengono: Carlo di Noto, direttore Meter Onlus e Fo
 rtunato Di noto, Parroco e Presidente Meter Onlus\n\n\n\n\nPer info su pren
 otazioni: Questo indirizzo email è protetto dagli spambots. È necessario ab
 ilitare JavaScript per vederlo.
 //
  \n\n\nScarica la Locandina \n
DTSTAMP:20260424T205550Z
DTSTART:20200206T100000Z
SEQUENCE:0
TRANSP:OPAQUE
END:VEVENT
END:VCALENDAR