BEGIN:VCALENDAR
VERSION:2.0
PRODID:-//jEvents 2.0 for Joomla//EN
CALSCALE:GREGORIAN
METHOD:PUBLISH
BEGIN:VEVENT
UID:418d97dc55c5e0c53a3e48effccc0d25
CATEGORIES:DEFAULT
SUMMARY:Per fare un bambino ci vuole un villaggio II parte
LOCATION:Auditorium comunale M. Ghisia, via alla Torri - Colico (LC)
DESCRIPTION;ENCODING=QUOTED-PRINTABLE:\n\n"Dalla Parte dei Bambini: la tutela della vita che cresce"\n\n\nIntervi
 ene: Fortunato Di Noto, Parroco e Presidente Meter Onlus\n\n\n6 Febbraio 20
 20, ore 20.45\n\n\nScarica la Locandina\n
DTSTAMP:20260424T211333Z
DTSTART:20200206T194500Z
SEQUENCE:0
TRANSP:OPAQUE
END:VEVENT
END:VCALENDAR